BEGIN:VCALENDAR
VERSION:2.0
PRODID:icalendar-ruby
CALSCALE:GREGORIAN
METHOD:PUBLISH
BEGIN:VTIMEZONE
TZID:America/Denver
BEGIN:DAYLIGHT
DTSTART:20260308T030000
TZOFFSETFROM:-0700
TZOFFSETTO:-0600
RRULE:FREQ=YEARLY;BYDAY=2SU;BYMONTH=3
TZNAME:MDT
END:DAYLIGHT
BEGIN:STANDARD
DTSTART:20261101T010000
TZOFFSETFROM:-0600
TZOFFSETTO:-0700
RRULE:FREQ=YEARLY;BYDAY=1SU;BYMONTH=11
TZNAME:MST
END:STANDARD
END:VTIMEZONE
BEGIN:VEVENT
DTSTAMP:20260419T121136Z
UID:1664e549-41e8-42dc-8195-23539377b580
DTSTART;TZID=America/Denver:20260520T000000
DTEND;TZID=America/Denver:20260522T235959
CLASS:PRIVATE
DESCRIPTION:\nOur annual conference features papers presenting original\,
  unpublished research on any topic or period of German-language literature
 \, cinema\, cultural studies\, German language and language pedagogy. The 
 2026 conference is taking place from May 20–22\, 2026 on Treaty 6 territ
 ory and the homelands of the Métis people.\n \nCfP for the 2026 conferen
 ce\n\n\n Register for this event:  https://app.groupize.com/e/german-studi
 es-canada
LOCATION:University of Alberta\, Edmonton\, AB\, Canada
ORGANIZER;CN=Simone Pfleger:mailto:pfleger@ualberta.ca
SUMMARY:German Studies Canada
URL;VALUE=URI:https://app.groupize.com/e/german-studies-canada
BEGIN:VALARM
ACTION:DISPLAY
TRIGGER:-P1D
SUMMARY:German Studies Canada
END:VALARM
END:VEVENT
END:VCALENDAR
