BEGIN:VCALENDAR
VERSION:2.0
PRODID:icalendar-ruby
CALSCALE:GREGORIAN
METHOD:PUBLISH
BEGIN:VTIMEZONE
TZID:America/Phoenix
BEGIN:STANDARD
DTSTART:19671029T010000
TZOFFSETFROM:-0600
TZOFFSETTO:-0700
TZNAME:MST
END:STANDARD
END:VTIMEZONE
BEGIN:VEVENT
DTSTAMP:20260420T042016Z
UID:90e666ae-d4b7-4e43-9940-41de1db57eaf
DTSTART;TZID=America/Phoenix:20260526T090000
DTEND;TZID=America/Phoenix:20260527T160000
CLASS:PRIVATE
DESCRIPTION:\n\n Register for this event:  https://app.groupize.com/e/conso
 rtium-for-software-engineering-research-2026-spring-cser-2026\n\n Access t
 he attendee app for this event:  https://app.groupize.com/a/consortium-for
 -software-engineering-research-2026-spring-cser-2026
LOCATION:University Commons\, University of Alberta\, University Of Alberta
 \, Edmonton\, AB\, Canada
ORGANIZER;CN=Zhou Yang:mailto:zy25@ualberta.ca
SUMMARY:Consortium for Software Engineering Research 2026 Spring (CSER 2026
 )
URL;VALUE=URI:https://app.groupize.com/a/consortium-for-software-engineerin
 g-research-2026-spring-cser-2026
BEGIN:VALARM
ACTION:DISPLAY
TRIGGER:-P1D
SUMMARY:Consortium for Software Engineering Research 2026 Spring (CSER 2026
 )
END:VALARM
END:VEVENT
END:VCALENDAR
